BEGIN:VCALENDAR
METHOD:PUBLISH
VERSION:2.0
PRODID:-//Eventilla iCal Syndication//NONSGML Liana//EN
BEGIN:VEVENT
UID:Y7awE@eventilla.com
DTSTAMP:20220331T110000Z
DTSTART:20220331T110000Z
DTEND:20220331T120000Z
SUMMARY:Kaikki tapahtumista(ni): Virtuaalitapahtumien haasteet
DESCRIPTION:Tässä webinaarissa käydään läpi vinkkejä virtuaalitapahtumien haasteiden selättämiseen.
LOCATION:Webinaari
URL:http://tapahtumat.eventilla.com/virtuaalitapahtumat
END:VEVENT
END:VCALENDAR
