BEGIN:VCALENDAR
METHOD:PUBLISH
VERSION:2.0
PRODID:-//Eventilla iCal Syndication//NONSGML Liana//EN
BEGIN:VEVENT
UID:d4lgJ@eventilla.com
DTSTAMP:20250610T100000Z
DTSTART:20250610T100000Z
DTEND:20250610T110000Z
SUMMARY:Kaikki tapahtumista(ni): 30 000 € Startupin synttäreihin – kannattiko?
DESCRIPTION:Maksuton webinaari kaikille livetapahtuman järjestämistä harkitseville!
LOCATION:Webinaari
URL:http://tapahtumat.eventilla.com/30k_startupin_synttareihin
END:VEVENT
END:VCALENDAR
